BEGIN:VCALENDAR
VERSION:2.0
PRODID:-//Evangelical Christian School - ECPv6.15.20//NONSGML v1.0//EN
CALSCALE:GREGORIAN
METHOD:PUBLISH
X-ORIGINAL-URL:https://goecs.org
X-WR-CALDESC:Events for Evangelical Christian School
REFRESH-INTERVAL;VALUE=DURATION:PT1H
X-Robots-Tag:noindex
X-PUBLISHED-TTL:PT1H
BEGIN:VTIMEZONE
TZID:America/New_York
BEGIN:DAYLIGHT
TZOFFSETFROM:-0500
TZOFFSETTO:-0400
TZNAME:EDT
DTSTART:20250309T070000
END:DAYLIGHT
BEGIN:STANDARD
TZOFFSETFROM:-0400
TZOFFSETTO:-0500
TZNAME:EST
DTSTART:20251102T060000
END:STANDARD
BEGIN:DAYLIGHT
TZOFFSETFROM:-0500
TZOFFSETTO:-0400
TZNAME:EDT
DTSTART:20260308T070000
END:DAYLIGHT
BEGIN:STANDARD
TZOFFSETFROM:-0400
TZOFFSETTO:-0500
TZNAME:EST
DTSTART:20261101T060000
END:STANDARD
BEGIN:DAYLIGHT
TZOFFSETFROM:-0500
TZOFFSETTO:-0400
TZNAME:EDT
DTSTART:20270314T070000
END:DAYLIGHT
BEGIN:STANDARD
TZOFFSETFROM:-0400
TZOFFSETTO:-0500
TZNAME:EST
DTSTART:20271107T060000
END:STANDARD
END:VTIMEZONE
BEGIN:VEVENT
DTSTART;VALUE=DATE:20260519
DTEND;VALUE=DATE:20260520
DTSTAMP:20260423T124711
CREATED:20260420T153248Z
LAST-MODIFIED:20260420T154358Z
UID:10000544-1779148800-1779235199@goecs.org
SUMMARY:2nd Grade Awards
DESCRIPTION:Second Grade Awards\n8:30 Mrs. Ossewaarde\n9:30 Mrs. Stevens\n10:30 Ms. Hahe\n11:30 Ms. Cooley\n12:30 Mrs. Cervantes\n 
URL:https://goecs.org/event/2nd-grade-awards/
LOCATION:Beacon Campus | Fine Arts Theater\, 8237 Beacon Blvd.\, Fort Myers\, FL\, 33907\, United States
CATEGORIES:Lower School
END:VEVENT
END:VCALENDAR