BEGIN:VCALENDAR
VERSION:2.0
PRODID:-//Evangelical Christian School - ECPv6.15.20//NONSGML v1.0//EN
CALSCALE:GREGORIAN
METHOD:PUBLISH
X-WR-CALNAME:Evangelical Christian School
X-ORIGINAL-URL:https://goecs.org
X-WR-CALDESC:Events for Evangelical Christian School
REFRESH-INTERVAL;VALUE=DURATION:PT1H
X-Robots-Tag:noindex
X-PUBLISHED-TTL:PT1H
BEGIN:VTIMEZONE
TZID:America/New_York
BEGIN:DAYLIGHT
TZOFFSETFROM:-0500
TZOFFSETTO:-0400
TZNAME:EDT
DTSTART:20250309T070000
END:DAYLIGHT
BEGIN:STANDARD
TZOFFSETFROM:-0400
TZOFFSETTO:-0500
TZNAME:EST
DTSTART:20251102T060000
END:STANDARD
BEGIN:DAYLIGHT
TZOFFSETFROM:-0500
TZOFFSETTO:-0400
TZNAME:EDT
DTSTART:20260308T070000
END:DAYLIGHT
BEGIN:STANDARD
TZOFFSETFROM:-0400
TZOFFSETTO:-0500
TZNAME:EST
DTSTART:20261101T060000
END:STANDARD
BEGIN:DAYLIGHT
TZOFFSETFROM:-0500
TZOFFSETTO:-0400
TZNAME:EDT
DTSTART:20270314T070000
END:DAYLIGHT
BEGIN:STANDARD
TZOFFSETFROM:-0400
TZOFFSETTO:-0500
TZNAME:EST
DTSTART:20271107T060000
END:STANDARD
END:VTIMEZONE
BEGIN:VEVENT
DTSTART;VALUE=DATE:20260518
DTEND;VALUE=DATE:20260519
DTSTAMP:20260423T185818
CREATED:20260420T153142Z
LAST-MODIFIED:20260420T154347Z
UID:10000543-1779062400-1779148799@goecs.org
SUMMARY:1st Grade Awards
DESCRIPTION:First Grade Awards:\n8:30 Mrs. Musick\n9:30 Mrs. Gerl\n10:30 Atkins\n11:30 Mrs. Rogers\n12:30 Mrs. Vinsand\n1:30 Mrs. Casola \n 
URL:https://goecs.org/event/1st-grade-awards/
LOCATION:Beacon Campus | Fine Arts Theater\, 8237 Beacon Blvd.\, Fort Myers\, FL\, 33907\, United States
CATEGORIES:Lower School
END:VEVENT
BEGIN:VEVENT
DTSTART;VALUE=DATE:20260519
DTEND;VALUE=DATE:20260520
DTSTAMP:20260423T185818
CREATED:20260420T153248Z
LAST-MODIFIED:20260420T154358Z
UID:10000544-1779148800-1779235199@goecs.org
SUMMARY:2nd Grade Awards
DESCRIPTION:Second Grade Awards\n8:30 Mrs. Ossewaarde\n9:30 Mrs. Stevens\n10:30 Ms. Hahe\n11:30 Ms. Cooley\n12:30 Mrs. Cervantes\n 
URL:https://goecs.org/event/2nd-grade-awards/
LOCATION:Beacon Campus | Fine Arts Theater\, 8237 Beacon Blvd.\, Fort Myers\, FL\, 33907\, United States
CATEGORIES:Lower School
END:VEVENT
BEGIN:VEVENT
DTSTART;VALUE=DATE:20260520
DTEND;VALUE=DATE:20260521
DTSTAMP:20260423T185818
CREATED:20260420T153405Z
LAST-MODIFIED:20260420T154413Z
UID:10000545-1779235200-1779321599@goecs.org
SUMMARY:3rd Grade Awards
DESCRIPTION:Third Grade Awards\n9:00 Mrs. Banks\n10:00 Mrs. Pullen\n11:00 Mrs. Waite\n12:00 Mrs. McDermott\n1:00 Ms. Rivera\n 
URL:https://goecs.org/event/3rd-grade-awards/
LOCATION:Beacon Campus | Fine Arts Theater\, 8237 Beacon Blvd.\, Fort Myers\, FL\, 33907\, United States
CATEGORIES:Lower School
END:VEVENT
BEGIN:VEVENT
DTSTART;VALUE=DATE:20260521
DTEND;VALUE=DATE:20260522
DTSTAMP:20260423T185818
CREATED:20260420T153503Z
LAST-MODIFIED:20260420T154430Z
UID:10000546-1779321600-1779407999@goecs.org
SUMMARY:4th Grade Awards
DESCRIPTION:Fourth Grade Awards:\n8:30 Mrs. Lewis\n9:30 Miss Jordan\n10:30 Miss Jobe\n11:30 Mrs. Reynolds\n12:30 Mrs. Hanchey\n 
URL:https://goecs.org/event/4th-grade-awards/
LOCATION:Beacon Campus | Fine Arts Theater\, 8237 Beacon Blvd.\, Fort Myers\, FL\, 33907\, United States
CATEGORIES:Lower School
END:VEVENT
BEGIN:VEVENT
DTSTART;VALUE=DATE:20260522
DTEND;VALUE=DATE:20260523
DTSTAMP:20260423T185818
CREATED:20260420T153623Z
LAST-MODIFIED:20260420T154453Z
UID:10000547-1779408000-1779494399@goecs.org
SUMMARY:5th Grade Awards
DESCRIPTION:Fifth Grade Awards\n8:30 Mrs. Anderson\n9:30 Mr. Wisner\n10:30 Mrs. Monsees\n11:30 Miss Noah\n12:30 Mrs. Kohlmeier\n 
URL:https://goecs.org/event/5th-grade-awards/
LOCATION:Beacon Campus | Fine Arts Theater\, 8237 Beacon Blvd.\, Fort Myers\, FL\, 33907\, United States
CATEGORIES:Lower School
END:VEVENT
END:VCALENDAR