BEGIN:VCALENDAR
VERSION:2.0
PRODID:-//Evangelical Christian School - ECPv6.15.20//NONSGML v1.0//EN
CALSCALE:GREGORIAN
METHOD:PUBLISH
X-WR-CALNAME:Evangelical Christian School
X-ORIGINAL-URL:https://goecs.org
X-WR-CALDESC:Events for Evangelical Christian School
REFRESH-INTERVAL;VALUE=DURATION:PT1H
X-Robots-Tag:noindex
X-PUBLISHED-TTL:PT1H
BEGIN:VTIMEZONE
TZID:America/New_York
BEGIN:DAYLIGHT
TZOFFSETFROM:-0500
TZOFFSETTO:-0400
TZNAME:EDT
DTSTART:20250309T070000
END:DAYLIGHT
BEGIN:STANDARD
TZOFFSETFROM:-0400
TZOFFSETTO:-0500
TZNAME:EST
DTSTART:20251102T060000
END:STANDARD
BEGIN:DAYLIGHT
TZOFFSETFROM:-0500
TZOFFSETTO:-0400
TZNAME:EDT
DTSTART:20260308T070000
END:DAYLIGHT
BEGIN:STANDARD
TZOFFSETFROM:-0400
TZOFFSETTO:-0500
TZNAME:EST
DTSTART:20261101T060000
END:STANDARD
BEGIN:DAYLIGHT
TZOFFSETFROM:-0500
TZOFFSETTO:-0400
TZNAME:EDT
DTSTART:20270314T070000
END:DAYLIGHT
BEGIN:STANDARD
TZOFFSETFROM:-0400
TZOFFSETTO:-0500
TZNAME:EST
DTSTART:20271107T060000
END:STANDARD
END:VTIMEZONE
BEGIN:VEVENT
DTSTART;VALUE=DATE:20260519
DTEND;VALUE=DATE:20260520
DTSTAMP:20260423T153152
CREATED:20260420T153248Z
LAST-MODIFIED:20260420T154358Z
UID:10000544-1779148800-1779235199@goecs.org
SUMMARY:2nd Grade Awards
DESCRIPTION:Second Grade Awards\n8:30 Mrs. Ossewaarde\n9:30 Mrs. Stevens\n10:30 Ms. Hahe\n11:30 Ms. Cooley\n12:30 Mrs. Cervantes\n 
URL:https://goecs.org/event/2nd-grade-awards/
LOCATION:Beacon Campus | Fine Arts Theater\, 8237 Beacon Blvd.\, Fort Myers\, FL\, 33907\, United States
CATEGORIES:Lower School
END:VEVENT
BEGIN:VEVENT
DTSTART;VALUE=DATE:20260518
DTEND;VALUE=DATE:20260519
DTSTAMP:20260423T153152
CREATED:20260420T153142Z
LAST-MODIFIED:20260420T154347Z
UID:10000543-1779062400-1779148799@goecs.org
SUMMARY:1st Grade Awards
DESCRIPTION:First Grade Awards:\n8:30 Mrs. Musick\n9:30 Mrs. Gerl\n10:30 Atkins\n11:30 Mrs. Rogers\n12:30 Mrs. Vinsand\n1:30 Mrs. Casola \n 
URL:https://goecs.org/event/1st-grade-awards/
LOCATION:Beacon Campus | Fine Arts Theater\, 8237 Beacon Blvd.\, Fort Myers\, FL\, 33907\, United States
CATEGORIES:Lower School
END:VEVENT
BEGIN:VEVENT
DTSTART;VALUE=DATE:20260518
DTEND;VALUE=DATE:20260519
DTSTAMP:20260423T153152
CREATED:20260420T144657Z
LAST-MODIFIED:20260420T164903Z
UID:10000531-1779062400-1779148799@goecs.org
SUMMARY:Middle & High School | Busch Gardens Trip
DESCRIPTION:Middle School:\nWe are excited to advertise our end-of-the-year positive behavior trip to Busch Gardens in Tampa Bay! The trip will be on Monday\, May 18th\, and the cost is $165\, which includes a park ticket\, all-day dining\, a snack/treat voucher\, and transportation to and from the park. Additional information can be found in the link below.  \nhttps://payit.nelnet.net/form/tMuAt7I6 \n  \nHigh School: \nBusch Gardens Information \nIf you have difficulty accessing the link above\, please refer to an email previously sent out by Mrs. Gibbs with this same information.
URL:https://goecs.org/event/middle-school-busch-gardens-trip/
LOCATION:FL
CATEGORIES:High School,Middle School
END:VEVENT
BEGIN:VEVENT
DTSTART;TZID=America/New_York:20260515T190000
DTEND;TZID=America/New_York:20260515T204500
DTSTAMP:20260423T153152
CREATED:20250821T125131Z
LAST-MODIFIED:20260420T143643Z
UID:10000139-1778871600-1778877900@goecs.org
SUMMARY:12th Grade Commencement
DESCRIPTION:
URL:https://goecs.org/event/12th-grade-commencement/
LOCATION:First Christian Church\, 2061 FL-867\, Fort Myers\, FL\, 33901\, United States
CATEGORIES:All School Calendar,High School,Online Academy
END:VEVENT
BEGIN:VEVENT
DTSTART;TZID=America/New_York:20260514T100000
DTEND;TZID=America/New_York:20260514T113000
DTSTAMP:20260423T153152
CREATED:20260420T144042Z
LAST-MODIFIED:20260420T163950Z
UID:10000530-1778752800-1778758200@goecs.org
SUMMARY:High School | Senior Graduation Rehearsal
DESCRIPTION:
URL:https://goecs.org/event/high-school-senior-graduation-rehearsal/
LOCATION:First Christian Church\, 2061 FL-867\, Fort Myers\, FL\, 33901\, United States
CATEGORIES:High School
END:VEVENT
BEGIN:VEVENT
DTSTART;VALUE=DATE:20260514
DTEND;VALUE=DATE:20260516
DTSTAMP:20260423T153152
CREATED:20260420T151240Z
LAST-MODIFIED:20260420T151240Z
UID:10000541-1778716800-1778889599@goecs.org
SUMMARY:Lower School | FACCS Jr. Fine Arts State Competition
DESCRIPTION:
URL:https://goecs.org/event/lower-school-faccs-jr-fine-arts-state-competition/
LOCATION:Southeastern University\, 1000 Longfellow Blvd.\, Lakeland\, FL\, 33801\, United States
CATEGORIES:Lower School
END:VEVENT
BEGIN:VEVENT
DTSTART;VALUE=DATE:20260514
DTEND;VALUE=DATE:20260515
DTSTAMP:20260423T153152
CREATED:20260420T144003Z
LAST-MODIFIED:20260420T144003Z
UID:10000529-1778716800-1778803199@goecs.org
SUMMARY:Lower School | Spirit Shirt Day
DESCRIPTION:Students should wear their grey Ezekiel spirit shirt with jeans (or uniform bottoms) and sneakers.
URL:https://goecs.org/event/lower-school-spirit-shirt-day/
LOCATION:Beacon Campus\, 8237 Beacon Blvd.\, Fort Myers\, FL\, 33907\, United States
CATEGORIES:Lower School
END:VEVENT
BEGIN:VEVENT
DTSTART;VALUE=DATE:20260514
DTEND;VALUE=DATE:20260515
DTSTAMP:20260423T153152
CREATED:20260420T143851Z
LAST-MODIFIED:20260420T143851Z
UID:10000528-1778716800-1778803199@goecs.org
SUMMARY:Lower School | Quarterly Celebration
DESCRIPTION:
URL:https://goecs.org/event/lower-school-quarterly-celebration/
LOCATION:Beacon Campus | Sentinel Field House (Gym)\, 8237 Beacon Blvd.\, Fort Myers\, FL\, 33907\, United States
CATEGORIES:Lower School
END:VEVENT
BEGIN:VEVENT
DTSTART;VALUE=DATE:20260514
DTEND;VALUE=DATE:20260515
DTSTAMP:20260423T153152
CREATED:20260420T143814Z
LAST-MODIFIED:20260420T143814Z
UID:10000527-1778716800-1778803199@goecs.org
SUMMARY:Middle School | Class Shirt Day
DESCRIPTION:Students should wear their class shirt with jeans (or uniform bottoms) and sneakers.
URL:https://goecs.org/event/middle-school-class-shirt-day/
LOCATION:Beacon Campus\, 8237 Beacon Blvd.\, Fort Myers\, FL\, 33907\, United States
CATEGORIES:Middle School
END:VEVENT
BEGIN:VEVENT
DTSTART;TZID=America/New_York:20260512T183000
DTEND;TZID=America/New_York:20260512T200000
DTSTAMP:20260423T153152
CREATED:20260420T141144Z
LAST-MODIFIED:20260420T141144Z
UID:10000526-1778610600-1778616000@goecs.org
SUMMARY:6th - 12th Grade Band Concert
DESCRIPTION:
URL:https://goecs.org/event/6th-12th-grade-band-concert/
LOCATION:Colonial Campus\, 4501 Colonial Blvd.\, Fort Myers\, FL\, 33966\, United States
CATEGORIES:Fine Arts,High School,Middle School
END:VEVENT
BEGIN:VEVENT
DTSTART;TZID=America/New_York:20260512T170000
DTEND;TZID=America/New_York:20260512T200000
DTSTAMP:20260423T153152
CREATED:20260420T161122Z
LAST-MODIFIED:20260420T161122Z
UID:10000550-1778605200-1778616000@goecs.org
SUMMARY:Athletic Physicals
DESCRIPTION:Tuesday\, May 12 – Athletic Physical  \nLocation: Beacon campus gymnasium \nTime: Doors will open at 4:30pm. Physicals will begin by 5:00pm  \n***All athletes must be in the gym by 6:00pm to be seen. More details will be sent by email.  \nAthletic Physical Form – Click Here! \n\nNEW ECG/EKG REQUIREMENT  \nBeginning July 1\, 2026\, ALL incoming 9th graders along with any rising 10-12th graders who have not yet participated in FHSAA sports must complete an EL1 Form. An ECG completed on or after July 1\, 2024 will satisfy this requirement  \nThis new ECG requirement is in addition to the other eligibility requirements already in place – all eligibility requirements will be submitted on the Home Campus eligibility portal for 2026-2027 when it opens. An email will be sent once the portal is opened for next school year. \n  \nPlease read the scenarios below for more information on what is required for your child as of July 1\, 2026.  \n1. My child was in 9th – 11th grade during the 2025-2026 school year and participated on a sports team at ECS \nIf your child is currently in 9-11th grade and was on one of our FHSAA sport teams this year\, then your child is strongly encouraged to have an electrocardiogram (ECG) completed but it will not be required for his/her eligibility.  \n\n2. My child was in 9th – 11th grade during the 2025-2026 school year but DID NOT participate on a sports team at ECS \nIf your child was not on an FHSAA team this year but would like to try out for a team next year\, then an EL1 Form must be submitted for the 2026-2027 school year.  \n\n3. My child is currently in 8th grade  \nAll current 8th graders who wish to try-out for an FHSAA team next year will be required to complete the EL1 Form.  \n\n4. My child is currently in 5th thru 7th grade \nMiddle school students are strongly encouraged to have an electrocardiogram (ECG) completed but it will not be required for his/her eligibility until they reach high school. \n\nDocumentation: \nEL1 Form – required for students who fall into options #2 and #3 above \nEL1/2S Form – only required for final clearance if the student has an abnormal ECG \nME1 Form – only needed if your child is granted a medical exemption from the ECG requirement. Must be completed by your child’s physician.  \nECS Informational Flier – contains more details on how to fulfill this requirement!
URL:https://goecs.org/event/athletic-physicals/
LOCATION:Beacon Campus | Sentinel Field House (Gym)\, 8237 Beacon Blvd.\, Fort Myers\, FL\, 33907\, United States
CATEGORIES:Athletics,High School,Middle School
END:VEVENT
BEGIN:VEVENT
DTSTART;TZID=America/New_York:20260511T183000
DTEND;TZID=America/New_York:20260511T200000
DTSTAMP:20260423T153152
CREATED:20250611T161207Z
LAST-MODIFIED:20260420T141448Z
UID:10000128-1778524200-1778529600@goecs.org
SUMMARY:ECSpys | Athletic Appreciation Night
DESCRIPTION:
URL:https://goecs.org/event/ecspys-athletic-appreciation-night/
LOCATION:Beacon Campus | Sentinel Field House (Gym)\, 8237 Beacon Blvd.\, Fort Myers\, FL\, 33907\, United States
CATEGORIES:Athletics,High School
END:VEVENT
BEGIN:VEVENT
DTSTART;VALUE=DATE:20260511
DTEND;VALUE=DATE:20260516
DTSTAMP:20260423T153152
CREATED:20260420T151002Z
LAST-MODIFIED:20260420T151002Z
UID:10000540-1778457600-1778889599@goecs.org
SUMMARY:Lower School | STAR Testing Week
DESCRIPTION:
URL:https://goecs.org/event/lower-school-star-testing-week/
LOCATION:Beacon Campus\, 8237 Beacon Blvd.\, Fort Myers\, FL\, 33907\, United States
CATEGORIES:Lower School
END:VEVENT
BEGIN:VEVENT
DTSTART;VALUE=DATE:20260508
DTEND;VALUE=DATE:20260509
DTSTAMP:20260423T153152
CREATED:20260420T141026Z
LAST-MODIFIED:20260420T141505Z
UID:10000525-1778198400-1778284799@goecs.org
SUMMARY:Middle School | Star Assessment Math
DESCRIPTION:
URL:https://goecs.org/event/middle-school-star-assessment-math/
LOCATION:Beacon Campus\, 8237 Beacon Blvd.\, Fort Myers\, FL\, 33907\, United States
CATEGORIES:Middle School
END:VEVENT
BEGIN:VEVENT
DTSTART;TZID=America/New_York:20260507T183000
DTEND;TZID=America/New_York:20260507T200000
DTSTAMP:20260423T153152
CREATED:20260420T135547Z
LAST-MODIFIED:20260420T141519Z
UID:10000523-1778178600-1778184000@goecs.org
SUMMARY:6th - 12th Grade Choir Concert
DESCRIPTION:
URL:https://goecs.org/event/6th-12th-grade-choir-concert/
LOCATION:Beacon Campus\, 8237 Beacon Blvd.\, Fort Myers\, FL\, 33907\, United States
CATEGORIES:Fine Arts,High School,Middle School
END:VEVENT
BEGIN:VEVENT
DTSTART;TZID=America/New_York:20260507T090000
DTEND;TZID=America/New_York:20260507T095600
DTSTAMP:20260423T153152
CREATED:20260422T160254Z
LAST-MODIFIED:20260422T160454Z
UID:10000559-1778144400-1778147760@goecs.org
SUMMARY:High School | Chapel
DESCRIPTION:
URL:https://goecs.org/event/high-school-chapel/2026-05-07/
LOCATION:Colonial Campus | Sentinel Hall\, 4501 Colonial Blvd.\, Fort Myers\, FL\, 33966\, United States
CATEGORIES:High School
END:VEVENT
BEGIN:VEVENT
DTSTART;TZID=America/New_York:20260507T080000
DTEND;TZID=America/New_York:20260507T083000
DTSTAMP:20260423T153152
CREATED:20260420T140710Z
LAST-MODIFIED:20260420T154615Z
UID:10000524-1778140800-1778142600@goecs.org
SUMMARY:5th Grade Parents Visit to 6th Grade
DESCRIPTION:
URL:https://goecs.org/event/5th-grade-parents-visit-to-6th-grade/
LOCATION:Beacon Campus | Fine Arts Theater\, 8237 Beacon Blvd.\, Fort Myers\, FL\, 33907\, United States
CATEGORIES:Lower School
END:VEVENT
BEGIN:VEVENT
DTSTART;VALUE=DATE:20260507
DTEND;VALUE=DATE:20260508
DTSTAMP:20260423T153152
CREATED:20260420T135502Z
LAST-MODIFIED:20260420T135502Z
UID:10000522-1778112000-1778198399@goecs.org
SUMMARY:Middle School | Star Assessment English
DESCRIPTION:
URL:https://goecs.org/event/middle-school-star-assessment-english/
LOCATION:Beacon Campus\, 8237 Beacon Blvd.\, Fort Myers\, FL\, 33907\, United States
CATEGORIES:Middle School
END:VEVENT
BEGIN:VEVENT
DTSTART;TZID=America/New_York:20260506T101500
DTEND;TZID=America/New_York:20260506T110000
DTSTAMP:20260423T153152
CREATED:20260420T164242Z
LAST-MODIFIED:20260420T164242Z
UID:10000554-1778062500-1778065200@goecs.org
SUMMARY:Middle School | Chapel
DESCRIPTION:
URL:https://goecs.org/event/middle-school-chapel-2/
LOCATION:Beacon Campus | Sentinel Field House (Gym)\, 8237 Beacon Blvd.\, Fort Myers\, FL\, 33907\, United States
CATEGORIES:Middle School
END:VEVENT
BEGIN:VEVENT
DTSTART;TZID=America/New_York:20260506T093000
DTEND;TZID=America/New_York:20260506T100000
DTSTAMP:20260423T153152
CREATED:20260420T135155Z
LAST-MODIFIED:20260420T141543Z
UID:10000520-1778059800-1778061600@goecs.org
SUMMARY:Pre- School | Muffins with Mom
DESCRIPTION:
URL:https://goecs.org/event/pre-school-muffins-with-mom/
LOCATION:Beacon Campus | Pre- School\, 8237 Beacon Blvd.\, Fort Myers\, FL\, 33907\, United States
CATEGORIES:Preschool
END:VEVENT
BEGIN:VEVENT
DTSTART;TZID=America/New_York:20260506T090000
DTEND;TZID=America/New_York:20260506T093000
DTSTAMP:20260423T153152
CREATED:20260420T134837Z
LAST-MODIFIED:20260420T134837Z
UID:10000519-1778058000-1778059800@goecs.org
SUMMARY:Lower School | Chapel
DESCRIPTION:Parents\, \nJoin us for Chapel today with your Lower School Student! Chapel will be led by our PE teachers.
URL:https://goecs.org/event/lower-school-chapel-2/
LOCATION:Beacon Campus | Sentinel Field House (Gym)\, 8237 Beacon Blvd.\, Fort Myers\, FL\, 33907\, United States
CATEGORIES:Lower School
END:VEVENT
BEGIN:VEVENT
DTSTART;TZID=America/New_York:20260505T183000
DTEND;TZID=America/New_York:20260505T200000
DTSTAMP:20260423T153152
CREATED:20260420T134752Z
LAST-MODIFIED:20260420T141600Z
UID:10000518-1778005800-1778011200@goecs.org
SUMMARY:6th - 12th Grade Orchestra Concert
DESCRIPTION:
URL:https://goecs.org/event/6th-12th-grade-orchestra-concert/
LOCATION:Colonial Campus\, 4501 Colonial Blvd.\, Fort Myers\, FL\, 33966\, United States
CATEGORIES:Fine Arts,High School,Middle School
END:VEVENT
BEGIN:VEVENT
DTSTART;TZID=America/New_York:20260504T081500
DTEND;TZID=America/New_York:20260504T091500
DTSTAMP:20260423T153152
CREATED:20260420T133809Z
LAST-MODIFIED:20260420T141613Z
UID:10000517-1777882500-1777886100@goecs.org
SUMMARY:End of Year House Games | K4 - 12th
DESCRIPTION:End of Year House Games\nLower\, Middle\, and High School will all compete in the final house games of the school year together on the football field.\nStudents should wear their house shirt with uniform bottoms\, any sneakers\, and house color accessories.
URL:https://goecs.org/event/end-of-year-house-games-k4-12th/
LOCATION:Beacon Campus | Sentinel Field (Football)\, 8237 Beacon Blvd.\, Fort Myers\, FL\, 33907\, United States
CATEGORIES:High School,Lower School,Middle School
END:VEVENT
BEGIN:VEVENT
DTSTART;VALUE=DATE:20260504
DTEND;VALUE=DATE:20260509
DTSTAMP:20260423T153152
CREATED:20260420T145249Z
LAST-MODIFIED:20260420T152246Z
UID:10000532-1777852800-1778284799@goecs.org
SUMMARY:Teacher Appreciation Week | Pre- School\, Lower\, Middle & High School
DESCRIPTION:Pre- School \nLower School:\nTeacher Appreciation Week is Coming! Click Below to Donate.\nhttps://drive.google.com/file/d/1QnYIGYLJvJd-C-AxHWaJ0rhs1HgLjF6Q/view?usp=share_link \nMiddle School:\nPlease click the link for a way to earn parent service hours while blessing our teachers. Be on the lookout for a sign-up to come in to help serve as well.\nhttps://drive.google.com/file/d/1pAZJfCU9A_4MvjwV9BiJ1XrDobGf327o/view?usp=sharing \nHigh School:\nThe week of May 4th\, we will be celebrating our dedicated\, hardworking\, fabulous teachers. If you would like to contribute in some way\, please access the link below. Thank you in advance for helping us make our teachers feel special! Teacher Appreciation Week Contributions 
URL:https://goecs.org/event/teacher-appreciation-week/
LOCATION:Both Campuses
CATEGORIES:High School,Lower School,Middle School
END:VEVENT
BEGIN:VEVENT
DTSTART;TZID=America/New_York:20260501T080000
DTEND;TZID=America/New_York:20260501T103000
DTSTAMP:20260423T153152
CREATED:20260420T133432Z
LAST-MODIFIED:20260420T154641Z
UID:10000516-1777622400-1777631400@goecs.org
SUMMARY:3rd - 5th Grade Career Day
DESCRIPTION:
URL:https://goecs.org/event/3rd-5th-grade-career-day/
LOCATION:Beacon Campus\, 8237 Beacon Blvd.\, Fort Myers\, FL\, 33907\, United States
CATEGORIES:Lower School
END:VEVENT
BEGIN:VEVENT
DTSTART;TZID=America/New_York:20260430T090000
DTEND;TZID=America/New_York:20260430T095600
DTSTAMP:20260423T153152
CREATED:20260422T160254Z
LAST-MODIFIED:20260422T160454Z
UID:10000558-1777539600-1777542960@goecs.org
SUMMARY:High School | Chapel
DESCRIPTION:
URL:https://goecs.org/event/high-school-chapel/2026-04-30/
LOCATION:Colonial Campus | Sentinel Hall\, 4501 Colonial Blvd.\, Fort Myers\, FL\, 33966\, United States
CATEGORIES:High School
END:VEVENT
BEGIN:VEVENT
DTSTART;VALUE=DATE:20260430
DTEND;VALUE=DATE:20260501
DTSTAMP:20260423T153152
CREATED:20260420T162625Z
LAST-MODIFIED:20260420T162625Z
UID:10000551-1777507200-1777593599@goecs.org
SUMMARY:Pre- School | April Chapel
DESCRIPTION:The chapel character trait for April is “Diligent”. \nChapel will be Thursday\, April 30th: \nK3 at 8:30\nK2 at 9:00
URL:https://goecs.org/event/pre-school-april-chapel/
LOCATION:Beacon Campus | Pre- School\, 8237 Beacon Blvd.\, Fort Myers\, FL\, 33907\, United States
CATEGORIES:Preschool
END:VEVENT
BEGIN:VEVENT
DTSTART;TZID=America/New_York:20260429T101500
DTEND;TZID=America/New_York:20260429T110000
DTSTAMP:20260423T153152
CREATED:20260420T164132Z
LAST-MODIFIED:20260420T164132Z
UID:10000552-1777457700-1777460400@goecs.org
SUMMARY:Middle School | Chapel
DESCRIPTION:
URL:https://goecs.org/event/middle-school-chapel/
LOCATION:Beacon Campus | Sentinel Field House (Gym)\, 8237 Beacon Blvd.\, Fort Myers\, FL\, 33907\, United States
CATEGORIES:Middle School
END:VEVENT
BEGIN:VEVENT
DTSTART;TZID=America/New_York:20260429T090000
DTEND;TZID=America/New_York:20260429T093000
DTSTAMP:20260423T153152
CREATED:20260420T132428Z
LAST-MODIFIED:20260420T132428Z
UID:10000515-1777453200-1777455000@goecs.org
SUMMARY:Lower School | Chapel
DESCRIPTION:Parents\, \nJoin us for Chapel today with your Lower School Student! Chapel will be led by our 5th grade teachers.
URL:https://goecs.org/event/lower-school-chapel/
LOCATION:Beacon Campus | Sentinel Field House (Gym)\, 8237 Beacon Blvd.\, Fort Myers\, FL\, 33907\, United States
CATEGORIES:Lower School
END:VEVENT
BEGIN:VEVENT
DTSTART;VALUE=DATE:20260427
DTEND;VALUE=DATE:20260501
DTSTAMP:20260423T153152
CREATED:20260420T150704Z
LAST-MODIFIED:20260420T150704Z
UID:10000538-1777248000-1777593599@goecs.org
SUMMARY:8th Grade | Washington\, DC Class Trip
DESCRIPTION:
URL:https://goecs.org/event/8th-grade-washington-dc-class-trip/
LOCATION:FL
CATEGORIES:Middle School
END:VEVENT
END:VCALENDAR