BEGIN:VCALENDAR
VERSION:2.0
PRODID:-//Evangelical Christian School - ECPv6.15.20//NONSGML v1.0//EN
CALSCALE:GREGORIAN
METHOD:PUBLISH
X-WR-CALNAME:Evangelical Christian School
X-ORIGINAL-URL:https://goecs.org
X-WR-CALDESC:Events for Evangelical Christian School
REFRESH-INTERVAL;VALUE=DURATION:PT1H
X-Robots-Tag:noindex
X-PUBLISHED-TTL:PT1H
BEGIN:VTIMEZONE
TZID:America/New_York
BEGIN:DAYLIGHT
TZOFFSETFROM:-0500
TZOFFSETTO:-0400
TZNAME:EDT
DTSTART:20250309T070000
END:DAYLIGHT
BEGIN:STANDARD
TZOFFSETFROM:-0400
TZOFFSETTO:-0500
TZNAME:EST
DTSTART:20251102T060000
END:STANDARD
BEGIN:DAYLIGHT
TZOFFSETFROM:-0500
TZOFFSETTO:-0400
TZNAME:EDT
DTSTART:20260308T070000
END:DAYLIGHT
BEGIN:STANDARD
TZOFFSETFROM:-0400
TZOFFSETTO:-0500
TZNAME:EST
DTSTART:20261101T060000
END:STANDARD
BEGIN:DAYLIGHT
TZOFFSETFROM:-0500
TZOFFSETTO:-0400
TZNAME:EDT
DTSTART:20270314T070000
END:DAYLIGHT
BEGIN:STANDARD
TZOFFSETFROM:-0400
TZOFFSETTO:-0500
TZNAME:EST
DTSTART:20271107T060000
END:STANDARD
END:VTIMEZONE
BEGIN:VEVENT
DTSTART;TZID=America/New_York:20260422T101500
DTEND;TZID=America/New_York:20260422T110000
DTSTAMP:20260423T175925
CREATED:20260420T164154Z
LAST-MODIFIED:20260420T164154Z
UID:10000553-1776852900-1776855600@goecs.org
SUMMARY:Middle School | No Chapel
DESCRIPTION:
URL:https://goecs.org/event/middle-school-no-chapel/
LOCATION:Beacon Campus | Sentinel Field House (Gym)\, 8237 Beacon Blvd.\, Fort Myers\, FL\, 33907\, United States
CATEGORIES:Middle School
END:VEVENT
BEGIN:VEVENT
DTSTART;TZID=America/New_York:20260422T090000
DTEND;TZID=America/New_York:20260422T093000
DTSTAMP:20260423T175925
CREATED:20260420T125525Z
LAST-MODIFIED:20260420T141949Z
UID:10000142-1776848400-1776850200@goecs.org
SUMMARY:Lower School | No Chapel Today
DESCRIPTION:
URL:https://goecs.org/event/lower-school-no-chapel-today/
LOCATION:Beacon Campus | Sentinel Field House (Gym)\, 8237 Beacon Blvd.\, Fort Myers\, FL\, 33907\, United States
CATEGORIES:Lower School
END:VEVENT
BEGIN:VEVENT
DTSTART;VALUE=DATE:20260422
DTEND;VALUE=DATE:20260423
DTSTAMP:20260423T175925
CREATED:20260420T125432Z
LAST-MODIFIED:20260420T125432Z
UID:10000141-1776816000-1776902399@goecs.org
SUMMARY:7th Grade Field Trip | Babcock Ranch Eco Tour
DESCRIPTION:
URL:https://goecs.org/event/7th-grade-field-trip-babcock-ranch-eco-tour-2/
LOCATION:FL
CATEGORIES:Middle School
END:VEVENT
BEGIN:VEVENT
DTSTART;VALUE=DATE:20260421
DTEND;VALUE=DATE:20260422
DTSTAMP:20260423T175925
CREATED:20260420T125109Z
LAST-MODIFIED:20260420T125400Z
UID:10000140-1776729600-1776815999@goecs.org
SUMMARY:7th Grade Field Trip | Babcock Ranch Eco Tour
DESCRIPTION:
URL:https://goecs.org/event/7th-grade-field-trip-babcock-ranch-eco-tour/
LOCATION:FL
CATEGORIES:Middle School
END:VEVENT
BEGIN:VEVENT
DTSTART;VALUE=DATE:20260406
DTEND;VALUE=DATE:20260407
DTSTAMP:20260423T175925
CREATED:20250611T160950Z
LAST-MODIFIED:20250611T171220Z
UID:10000126-1775433600-1775519999@goecs.org
SUMMARY:No School
DESCRIPTION:
URL:https://goecs.org/event/no-school/
LOCATION:FL
CATEGORIES:All School Calendar
END:VEVENT
BEGIN:VEVENT
DTSTART;VALUE=DATE:20260405
DTEND;VALUE=DATE:20260406
DTSTAMP:20260423T175925
CREATED:20250611T160841Z
LAST-MODIFIED:20250611T160841Z
UID:10000125-1775347200-1775433599@goecs.org
SUMMARY:Easter
DESCRIPTION:
URL:https://goecs.org/event/easter/
LOCATION:FL
CATEGORIES:All School Calendar
END:VEVENT
BEGIN:VEVENT
DTSTART;VALUE=DATE:20260403
DTEND;VALUE=DATE:20260404
DTSTAMP:20260423T175926
CREATED:20250611T160755Z
LAST-MODIFIED:20250611T170840Z
UID:10000124-1775174400-1775260799@goecs.org
SUMMARY:No School\, Good Friday
DESCRIPTION:
URL:https://goecs.org/event/no-school-good-friday/
LOCATION:FL
CATEGORIES:All School Calendar
END:VEVENT
END:VCALENDAR